BEGIN:VCALENDAR
VERSION:2.0
PRODID:-//Local3778 - ECPv6.15.11//NONSGML v1.0//EN
CALSCALE:GREGORIAN
METHOD:PUBLISH
X-WR-CALNAME:Local3778
X-ORIGINAL-URL:https://local3778.org
X-WR-CALDESC:Events for Local3778
REFRESH-INTERVAL;VALUE=DURATION:PT1H
X-Robots-Tag:noindex
X-PUBLISHED-TTL:PT1H
BEGIN:VTIMEZONE
TZID:UTC
BEGIN:STANDARD
TZOFFSETFROM:+0000
TZOFFSETTO:+0000
TZNAME:UTC
DTSTART:20210101T000000
END:STANDARD
END:VTIMEZONE
BEGIN:VEVENT
DTSTART;TZID=UTC:20250520T120000
DTEND;TZID=UTC:20250520T130000
DTSTAMP:20260423T164307
CREATED:20250520T010124Z
LAST-MODIFIED:20251020T204431Z
UID:2182-1747742400-1747746000@local3778.org
SUMMARY:General Membership Meeting May 2025
DESCRIPTION:General Membership meeting on Tuesday May 20th at the NYPD Police Laboratory Auditorium at 12:00pm. We’ve got updates\, DC 37 grievance representative Chandler Henderson and AFSCME representative Ryan and you can enjoy some Jamaican patties!!!
URL:https://local3778.org/event/general-membership-meeting-may-2025-2/
END:VEVENT
BEGIN:VEVENT
DTSTART;TZID=UTC:20250501T183000
DTEND;TZID=UTC:20250501T193000
DTSTAMP:20260423T164307
CREATED:20250429T063015Z
LAST-MODIFIED:20250430T010011Z
UID:2046-1746124200-1746127800@local3778.org
SUMMARY:General Membership Meeting May 2025
DESCRIPTION:Virtual General Membership Meeting \nWe’ll be voting on key proposals and sharing important updates. Don’t miss it! \nAgenda Includes: \n\nFinancial Report\n2025 Budget Proposal [Vote]\nSafety Officer Report\nHardship & Benevolence Policy[Vote]\nAnd more!\n\n			\n				Zoom Link\n			\n				\n				\n				\n				\n				Meeting ID: 869 2713 5350Passcode: 298467\nOne tap mobile+13092053325\,\,86927135350#\,\,\,\,*298467# US+13126266799\,\,86927135350#\,\,\,\,*298467# US (Chicago)Dial by your location• +1 309 205 3325 US• +1 312 626 6799 US (Chicago)• +1 646 931 3860 US• +1 929 205 6099 US (New York)• +1 301 715 8592 US (Washington DC)• +1 305 224 1968 US• +1 253 205 0468 US• +1 253 215 8782 US (Tacoma)• +1 346 248 7799 US (Houston)• +1 360 209 5623 US• +1 386 347 5053 US• +1 507 473 4847 US• +1 564 217 2000 US• +1 669 444 9171 US• +1 669 900 6833 US (San Jose)• +1 689 278 1000 US• +1 719 359 4580 USFind your local number: https://us06web.zoom.us/u/kdtZr40Wq8
URL:https://local3778.org/event/general-membership-meeting-may-2025/
END:VEVENT
BEGIN:VEVENT
DTSTART;TZID=UTC:20250326T120000
DTEND;TZID=UTC:20250326T130000
DTSTAMP:20260423T164307
CREATED:20240829T022109Z
LAST-MODIFIED:20250115T014509Z
UID:2044-1742990400-1742994000@local3778.org
SUMMARY:General Membership Meeting March 2025
DESCRIPTION:This will be an in person meeting at the NYPD Police Lab\, along with an online ZOOM link. \nJoin Zoom Meeting\nhttps://us06web.zoom.us/j/86927135350?pwd=dU9Pc2ZjMmdodC83cnZxdW4zRmVjUT09\n\nMeeting ID: 869 2713 5350\nPasscode: 298467\nOne tap mobile\n+13092053325\,\,86927135350#\,\,\,\,*298467# US\n+13126266799\,\,86927135350#\,\,\,\,*298467# US (Chicago)Dial by your location\n• +1 309 205 3325 US\n• +1 312 626 6799 US (Chicago)\n• +1 646 931 3860 US\n• +1 929 205 6099 US (New York)\n• +1 301 715 8592 US (Washington DC)\n• +1 305 224 1968 US\n• +1 253 205 0468 US\n• +1 253 215 8782 US (Tacoma)\n• +1 346 248 7799 US (Houston)\n• +1 360 209 5623 US\n• +1 386 347 5053 US\n• +1 507 473 4847 US\n• +1 564 217 2000 US\n• +1 669 444 9171 US\n• +1 669 900 6833 US (San Jose)\n• +1 689 278 1000 US\n• +1 719 359 4580 US\nFind your local number: https://us06web.zoom.us/u/kdtZr40Wq8
URL:https://local3778.org/event/general-membership-meeting-march-2025/
END:VEVENT
BEGIN:VEVENT
DTSTART;TZID=UTC:20250129T120000
DTEND;TZID=UTC:20250129T130000
DTSTAMP:20260423T164307
CREATED:20240829T022002Z
LAST-MODIFIED:20250115T013818Z
UID:2042-1738152000-1738155600@local3778.org
SUMMARY:General Membership Meeting January 2025
DESCRIPTION:This will be an in person meeting at the NYPD Police Lab\, along with an online ZOOM.\n			\n				Zoom Link\n			\n				\n				\n				\n				\n				Meeting ID: 869 2713 5350Passcode: 298467\nOne tap mobile+13092053325\,\,86927135350#\,\,\,\,*298467# US+13126266799\,\,86927135350#\,\,\,\,*298467# US (Chicago)Dial by your location• +1 309 205 3325 US• +1 312 626 6799 US (Chicago)• +1 646 931 3860 US• +1 929 205 6099 US (New York)• +1 301 715 8592 US (Washington DC)• +1 305 224 1968 US• +1 253 205 0468 US• +1 253 215 8782 US (Tacoma)• +1 346 248 7799 US (Houston)• +1 360 209 5623 US• +1 386 347 5053 US• +1 507 473 4847 US• +1 564 217 2000 US• +1 669 444 9171 US• +1 669 900 6833 US (San Jose)• +1 689 278 1000 US• +1 719 359 4580 USFind your local number: https://us06web.zoom.us/u/kdtZr40Wq8
URL:https://local3778.org/event/general-membership-meeting-january-2025/
END:VEVENT
BEGIN:VEVENT
DTSTART;TZID=UTC:20241120T120000
DTEND;TZID=UTC:20241120T130000
DTSTAMP:20260423T164307
CREATED:20240829T021819Z
LAST-MODIFIED:20240924T020249Z
UID:2040-1732104000-1732107600@local3778.org
SUMMARY:General Membership Meeting November 2024
DESCRIPTION:This will be an in person meeting at the NYPD Police Lab\, along with an online ZOOM link. \nJoin Zoom Meeting\nhttps://us06web.zoom.us/j/86927135350?pwd=dU9Pc2ZjMmdodC83cnZxdW4zRmVjUT09\n\nMeeting ID: 869 2713 5350\nPasscode: 298467\nOne tap mobile\n+13092053325\,\,86927135350#\,\,\,\,*298467# US\n+13126266799\,\,86927135350#\,\,\,\,*298467# US (Chicago)Dial by your location\n• +1 309 205 3325 US\n• +1 312 626 6799 US (Chicago)\n• +1 646 931 3860 US\n• +1 929 205 6099 US (New York)\n• +1 301 715 8592 US (Washington DC)\n• +1 305 224 1968 US\n• +1 253 205 0468 US\n• +1 253 215 8782 US (Tacoma)\n• +1 346 248 7799 US (Houston)\n• +1 360 209 5623 US\n• +1 386 347 5053 US\n• +1 507 473 4847 US\n• +1 564 217 2000 US\n• +1 669 444 9171 US\n• +1 669 900 6833 US (San Jose)\n• +1 689 278 1000 US\n• +1 719 359 4580 USFind your local number: https://us06web.zoom.us/u/kdtZr40Wq8
URL:https://local3778.org/event/general-membership-meeting-november-2024/
END:VEVENT
BEGIN:VEVENT
DTSTART;TZID=UTC:20240926T120000
DTEND;TZID=UTC:20240926T130000
DTSTAMP:20260423T164307
CREATED:20240829T021431Z
LAST-MODIFIED:20240926T021049Z
UID:2037-1727352000-1727355600@local3778.org
SUMMARY:General Membership Meeting September 2024
DESCRIPTION:This will be an in person meeting at the NYPD Police Lab\, along with an online ZOOM link. \nRoom 349 at the Police Laboratory\n \n\n \nJoin Zoom Meetinghttps://us06web.zoom.us/j/86927135350?pwd=dU9Pc2ZjMmdodC83cnZxdW4zRmVjUT09\n \nMeeting ID: 869 2713 5350Passcode: 298467\nOne tap mobile+13092053325\,\,86927135350#\,\,\,\,*298467# US+13126266799\,\,86927135350#\,\,\,\,*298467# US (Chicago)Dial by your location• +1 309 205 3325 US• +1 312 626 6799 US (Chicago)• +1 646 931 3860 US• +1 929 205 6099 US (New York)• +1 301 715 8592 US (Washington DC)• +1 305 224 1968 US• +1 253 205 0468 US• +1 253 215 8782 US (Tacoma)• +1 346 248 7799 US (Houston)• +1 360 209 5623 US• +1 386 347 5053 US• +1 507 473 4847 US• +1 564 217 2000 US• +1 669 444 9171 US• +1 669 900 6833 US (San Jose)• +1 689 278 1000 US• +1 719 359 4580 USFind your local number: https://us06web.zoom.us/u/kdtZr40Wq8
URL:https://local3778.org/event/general-membership-meeting-september-2024/
END:VEVENT
BEGIN:VEVENT
DTSTART;TZID=UTC:20240907T120000
DTEND;TZID=UTC:20240907T150000
DTSTAMP:20260423T164307
CREATED:20240822T033412Z
LAST-MODIFIED:20240903T030313Z
UID:2033-1725710400-1725721200@local3778.org
SUMMARY:Labor Day Parade
DESCRIPTION:
URL:https://local3778.org/event/labor-day-parade/
END:VEVENT
BEGIN:VEVENT
DTSTART;TZID=UTC:20240902T100000
DTEND;TZID=UTC:20240902T100000
DTSTAMP:20260423T164307
CREATED:20240822T033137Z
LAST-MODIFIED:20240822T034951Z
UID:2031-1725271200-1725271200@local3778.org
SUMMARY:West Indian Day Parade
DESCRIPTION:Join DC37 to celebrate the Caribbean Heritage by marching in this year’s West Indian Day Parade.
URL:https://local3778.org/event/west-indian-day-parade/
END:VEVENT
BEGIN:VEVENT
DTSTART;TZID=UTC:20240824T110000
DTEND;TZID=UTC:20240824T110000
DTSTAMP:20260423T164307
CREATED:20240822T031530Z
LAST-MODIFIED:20240822T031530Z
UID:2027-1724497200-1724497200@local3778.org
SUMMARY:First Time Home Buyer Workshop
DESCRIPTION:Join the online First Time Homebuyer Workshop. Join us as we discuss the mortgage process. Don’t forget to register.
URL:https://local3778.org/event/first-time-home-buyer-workshop/
END:VEVENT
BEGIN:VEVENT
DTSTART;TZID=UTC:20240520T120000
DTEND;TZID=UTC:20240520T130000
DTSTAMP:20260423T164307
CREATED:20230911T223304Z
LAST-MODIFIED:20230911T223555Z
UID:1877-1716206400-1716210000@local3778.org
SUMMARY:General Membership Meeting May 2024
DESCRIPTION:This will be an in person meeting at the NYPD Police Lab\, along with an online ZOOM link.
URL:https://local3778.org/event/general-membership-meeting-may-2024/
END:VEVENT
BEGIN:VEVENT
DTSTART;TZID=UTC:20240318T120000
DTEND;TZID=UTC:20240318T130000
DTSTAMP:20260423T164307
CREATED:20230911T223220Z
LAST-MODIFIED:20230911T223537Z
UID:1875-1710763200-1710766800@local3778.org
SUMMARY:General Membership Meeting March 2024
DESCRIPTION:This will be an in person meeting at the NYPD Police Lab\, along with an online ZOOM link.
URL:https://local3778.org/event/general-membership-meeting-march-2024/
END:VEVENT
BEGIN:VEVENT
DTSTART;TZID=UTC:20240116T120000
DTEND;TZID=UTC:20240116T130000
DTSTAMP:20260423T164307
CREATED:20230911T222929Z
LAST-MODIFIED:20230911T223518Z
UID:1873-1705406400-1705410000@local3778.org
SUMMARY:General Membership Meeting January 2024
DESCRIPTION:This meeting will be held in person at the NYPD Police lab\, along with an online ZOOM call.
URL:https://local3778.org/event/general-membership-meeting-january-2024/
END:VEVENT
BEGIN:VEVENT
DTSTART;TZID=UTC:20231120T120000
DTEND;TZID=UTC:20231120T130000
DTSTAMP:20260423T164307
CREATED:20230911T222709Z
LAST-MODIFIED:20230911T222709Z
UID:1870-1700481600-1700485200@local3778.org
SUMMARY:General Membership Meeting November 2023
DESCRIPTION:This meeting will be held in person at the NYPD Police lab\, along with an online ZOOM call.
URL:https://local3778.org/event/general-membership-meeting-november-2023/
END:VEVENT
BEGIN:VEVENT
DTSTART;TZID=UTC:20230918T120000
DTEND;TZID=UTC:20230918T130000
DTSTAMP:20260423T164307
CREATED:20230911T222554Z
LAST-MODIFIED:20230911T222837Z
UID:1868-1695038400-1695042000@local3778.org
SUMMARY:General Membership Meeting September 2023
DESCRIPTION:This meeting will be held in person at the NYPD Police lab\, along with an online ZOOM call.
URL:https://local3778.org/event/general-membership-meeting-september-2023/
END:VEVENT
BEGIN:VEVENT
DTSTART;TZID=UTC:20230516T120000
DTEND;TZID=UTC:20230516T130000
DTSTAMP:20260423T164307
CREATED:20220920T020806Z
LAST-MODIFIED:20230515T233010Z
UID:1777-1684238400-1684242000@local3778.org
SUMMARY:General Membership Meeting May 2023 (In Person)
DESCRIPTION:Meeting will be in person at the Police Laboratory at 1200 pm.
URL:https://local3778.org/event/general-membership-meeting-may-2023-zoom/
END:VEVENT
BEGIN:VEVENT
DTSTART;TZID=UTC:20230417T120000
DTEND;TZID=UTC:20230417T130000
DTSTAMP:20260423T164307
CREATED:20220920T020534Z
LAST-MODIFIED:20220920T020534Z
UID:1775-1681732800-1681736400@local3778.org
SUMMARY:General Membership Meeting April 2023 (In Person)
DESCRIPTION:
URL:https://local3778.org/event/general-membership-meeting-april-2023-in-person/
END:VEVENT
BEGIN:VEVENT
DTSTART;TZID=UTC:20230405T120000
DTEND;TZID=UTC:20230405T140000
DTSTAMP:20260423T164307
CREATED:20230306T234825Z
LAST-MODIFIED:20230403T233500Z
UID:1825-1680696000-1680703200@local3778.org
SUMMARY:How to Read your Pay Stub (POSTPONED)
DESCRIPTION:We will be having an info session on April 5th from 12pm to 2pm at the Police Laboratory auditorium. Our Grievance Representative Samantha Rappa-Giovagnoli will be giving a presentation on How to Read your Pay Stub. We also hope to answer any questions you may have. All are invited!”
URL:https://local3778.org/event/how-to-read-your-pay-stub/
END:VEVENT
BEGIN:VEVENT
DTSTART;TZID=UTC:20230320T183000
DTEND;TZID=UTC:20230320T193000
DTSTAMP:20260423T164307
CREATED:20220920T020414Z
LAST-MODIFIED:20220920T020414Z
UID:1773-1679337000-1679340600@local3778.org
SUMMARY:General Membership Meeting March 2023 (Zoom)
DESCRIPTION:
URL:https://local3778.org/event/general-membership-meeting-march-2023-zoom/
END:VEVENT
BEGIN:VEVENT
DTSTART;TZID=UTC:20230222T120000
DTEND;TZID=UTC:20230222T130000
DTSTAMP:20260423T164307
CREATED:20220920T020316Z
LAST-MODIFIED:20230129T172809Z
UID:1771-1677067200-1677070800@local3778.org
SUMMARY:General Membership Meeting February 2023 (In Person)
DESCRIPTION:
URL:https://local3778.org/event/general-membership-meeting-february-2023-in-person/
END:VEVENT
BEGIN:VEVENT
DTSTART;TZID=UTC:20230117T183000
DTEND;TZID=UTC:20230117T193000
DTSTAMP:20260423T164307
CREATED:20220920T020122Z
LAST-MODIFIED:20220920T020122Z
UID:1767-1673980200-1673983800@local3778.org
SUMMARY:General Membership Meeting January 2023 (Zoom)
DESCRIPTION:
URL:https://local3778.org/event/general-membership-meeting-january-2023-zoom/
END:VEVENT
BEGIN:VEVENT
DTSTART;TZID=UTC:20221219T120000
DTEND;TZID=UTC:20221219T130000
DTSTAMP:20260423T164307
CREATED:20220920T020211Z
LAST-MODIFIED:20221126T171952Z
UID:1769-1671451200-1671454800@local3778.org
SUMMARY:General Membership Meeting December 2022 (In Person)
DESCRIPTION:Brothers and Sisters at the Police Lab\, please join us for our December meeting at the holiday party!!
URL:https://local3778.org/event/general-membership-meeting-december-2022-in-person/
END:VEVENT
BEGIN:VEVENT
DTSTART;TZID=UTC:20221208T123000
DTEND;TZID=UTC:20221208T133000
DTSTAMP:20260423T164307
CREATED:20221004T224523Z
LAST-MODIFIED:20221004T224523Z
UID:1795-1670502600-1670506200@local3778.org
SUMMARY:1PP Member December Meeting
DESCRIPTION:The Local would like to host a few brief lunchtime meetings with everyone of all titles this October\, November\, and December. The purpose of the meetings would just be to discuss any questions or concerns that you might have. Our Grievance Representative will be in attendance along with the 1PP Shop Steward.\n\nThe meetings will be held on October 20th\, November 17th\, and December 8th. The times for all meetings will be 12:30pm to 1:30pm.\n\nThe point of contact will be City Research Scientist and Shop Steward Michael Zboray. Feel free to reach him at mdzboray@gmail.com.
URL:https://local3778.org/event/1pp-member-december-meeting/
END:VEVENT
BEGIN:VEVENT
DTSTART;TZID=UTC:20221121T183000
DTEND;TZID=UTC:20221121T193000
DTSTAMP:20260423T164307
CREATED:20220920T015832Z
LAST-MODIFIED:20221121T032624Z
UID:1765-1669055400-1669059000@local3778.org
SUMMARY:General Membership Meeting November 2022 (Zoom)
DESCRIPTION:To clarify a matter that came up during the meeting\, our new 2nd Vice President Antonielle Anderson was voted in by the eboard for the REMAINDER of Emily Shulruff’s term\, as Emily has resigned from the position. The position will be up for re-election along with the rest in Spring 2024. Also attached is the Union 101 presentation given by Daphne Mavris at the end of the meeting.\n\nOur next General Membership Meeting is this coming Monday\, November 21\, 2022 at 6:30pm via Zoom. The meeting link is below. We really hope to see you there!\n\nTopic: Local 3778 General Meeting\nTime: This is a recurring meeting Meet anytime \nJoin Zoom Meeting\nhttps://zoom.us/j/98761008501?pwd=WTJaMi81bFBYbHkvSTlDRlFjYUV5QT09 \nMeeting ID: 987 6100 8501\nPasscode: 930070\nOne tap mobile\n+16469313860\,\,98761008501#\,\,\,\,*930070# US\n+16465588656\,\,98761008501#\,\,\,\,*930070# US (New York) \nDial by your location\n+1 646 931 3860 US\n+1 646 558 8656 US (New York)\n+1 301 715 8592 US (Washington DC)\n+1 309 205 3325 US\n+1 312 626 6799 US (Chicago)\n+1 719 359 4580 US\n+1 253 215 8782 US (Tacoma)\n+1 346 248 7799 US (Houston)\n+1 386 347 5053 US\n+1 564 217 2000 US\n+1 669 444 9171 US\n+1 669 900 9128 US (San Jose)\nMeeting ID: 987 6100 8501\nPasscode: 930070\nFind your local number: https://zoom.us/u/adDPoaK2DN
URL:https://local3778.org/event/general-membership-meeting-november-2022-zoom/
END:VEVENT
BEGIN:VEVENT
DTSTART;TZID=UTC:20221117T123000
DTEND;TZID=UTC:20221117T133000
DTSTAMP:20260423T164307
CREATED:20221004T224448Z
LAST-MODIFIED:20221004T224448Z
UID:1793-1668688200-1668691800@local3778.org
SUMMARY:1PP Members November Meeting
DESCRIPTION:The Local would like to host a few brief lunchtime meetings with everyone of all titles this October\, November\, and December. The purpose of the meetings would just be to discuss any questions or concerns that you might have. Our Grievance Representative will be in attendance along with the 1PP Shop Steward.\n\nThe meetings will be held on October 20th\, November 17th\, and December 8th. The times for all meetings will be 12:30pm to 1:30pm.\n\nThe point of contact will be City Research Scientist and Shop Steward Michael Zboray. Feel free to reach him at mdzboray@gmail.com.
URL:https://local3778.org/event/1pp-members-november-meeting/
END:VEVENT
BEGIN:VEVENT
DTSTART;TZID=UTC:20221024T120000
DTEND;TZID=UTC:20221024T130000
DTSTAMP:20260423T164307
CREATED:20220920T015800Z
LAST-MODIFIED:20221016T220208Z
UID:1763-1666612800-1666616400@local3778.org
SUMMARY:General Membership Meeting October 2022 (In Person)
DESCRIPTION:
URL:https://local3778.org/event/general-membership-meeting-october-2022-in-person/
END:VEVENT
BEGIN:VEVENT
DTSTART;TZID=UTC:20221020T123000
DTEND;TZID=UTC:20221020T133000
DTSTAMP:20260423T164307
CREATED:20221004T224322Z
LAST-MODIFIED:20221004T224322Z
UID:1791-1666269000-1666272600@local3778.org
SUMMARY:1PP Members October Meeting
DESCRIPTION:The Local would like to host a few brief lunchtime meetings with everyone of all titles this October\, November\, and December. The purpose of the meetings would just be to discuss any questions or concerns that you might have. Our Grievance Representative will be in attendance along with the 1PP Shop Steward.\n\nThe meetings will be held on October 20th\, November 17th\, and December 8th. The times for all meetings will be 12:30pm to 1:30pm.\n\nThe point of contact will be City Research Scientist and Shop Steward Michael Zboray. Feel free to reach him at mdzboray@gmail.com.
URL:https://local3778.org/event/1pp-members-october-meeting/
END:VEVENT
BEGIN:VEVENT
DTSTART;TZID=UTC:20220926T183000
DTEND;TZID=UTC:20220926T193000
DTSTAMP:20260423T164307
CREATED:20220920T015711Z
LAST-MODIFIED:20220926T222634Z
UID:1761-1664217000-1664220600@local3778.org
SUMMARY:General Membership Meeting September 2022 (Zoom)
DESCRIPTION:Join us tonight for the first meeting of the season! See you at 6:30pm!\n\nTopic: Local 3778 General MeetingTime: This is a recurring meeting Meet anytime \nJoin Zoom Meetinghttps://zoom.us/j/98761008501… \nMeeting ID: 987 6100 8501Passcode: 930070
URL:https://local3778.org/event/general-membership-meeting-september-2022-zoom/
END:VEVENT
BEGIN:VEVENT
DTSTART;TZID=UTC:20220910T110000
DTEND;TZID=UTC:20220910T170000
DTSTAMP:20260423T164307
CREATED:20220819T013136Z
LAST-MODIFIED:20220819T013136Z
UID:1743-1662807600-1662829200@local3778.org
SUMMARY:Labor Day End of Summer BBQ
DESCRIPTION:Dear Union Members\, \nThe grill will be on\, there will be music and field day games\, and the kids (and adults!) will have plenty of fun! \nJoin us for our Labor Day End-of Summer Barbecue!  \nDate: Saturday\, September 10\, 2022\n( Rain date: September 17BBQ FLYER ) \nTime: 11am to 5pm \nWhere: Valley Stream State Park\, Long Island\, NY \nFamily and friends are invited. BYOB!\nVegan and gluten free options available. \nYou must R.S.V.P. by August 31st by filling out this form (also accessible via the QR code attached in this email): https://forms.gle/qWXpvq9WHn6RkuSL7 \nBring chairs\, picnic blankets\, sunscreen and bug spray. \nThere is a parking fee of $8. \nNo car? We will coordinate pickups from the Valley Stream LIRR train station. \nVolunteers needed!  Let us know if you can help plan food and drinks\, kids activities\, or offer rides in the survey above. \nSee you there!
URL:https://local3778.org/event/labor-day-end-of-summer-bbq/
END:VEVENT
BEGIN:VEVENT
DTSTART;TZID=UTC:20220615T170000
DTEND;TZID=UTC:20220615T180000
DTSTAMP:20260423T164307
CREATED:20220608T231132Z
LAST-MODIFIED:20220608T231132Z
UID:1731-1655312400-1655316000@local3778.org
SUMMARY:DC37 Contract Rally
DESCRIPTION:. \n\n\n\n\nCome join your fellow eboard and other locals fight for a new contract!! Members will be rallying at City Hall to say that essential workers deserve fair pay!!\n\n\n\nJoin your DC37 brothers and sisters at the rally for a new contract on Wednesday\, June 15 at 5 PM\, Foley Square\, lower Manhattan. Wear your DC 37 green tee shirt and let your voices be heard. Bring your coworkers and friends. Be sure to complete the online survey at dc37survey.com by June 14\, then join the rally June 15.
URL:https://local3778.org/event/dc37-contract-rally/
END:VEVENT
BEGIN:VEVENT
DTSTART;TZID=UTC:20220613T080000
DTEND;TZID=UTC:20220613T120000
DTSTAMP:20260423T164307
CREATED:20220606T115037Z
LAST-MODIFIED:20220606T115037Z
UID:1699-1655107200-1655121600@local3778.org
SUMMARY:Building Maintenance Appreciation Breakfast
DESCRIPTION:This breakfast will be for those members located in Queens in the building maintenance section.
URL:https://local3778.org/event/building-maintenance-appreciation-breakfast/
END:VEVENT
END:VCALENDAR